BEGIN:VCALENDAR
VERSION:2.0
PRODID:-//Halifax Fan Group - ECPv6.15.14//NONSGML v1.0//EN
CALSCALE:GREGORIAN
METHOD:PUBLISH
X-WR-CALNAME:Halifax Fan Group
X-ORIGINAL-URL:https://halifax-fan.co.uk
X-WR-CALDESC:Events for Halifax Fan Group
REFRESH-INTERVAL;VALUE=DURATION:PT1H
X-Robots-Tag:noindex
X-PUBLISHED-TTL:PT1H
BEGIN:VTIMEZONE
TZID:Europe/London
BEGIN:DAYLIGHT
TZOFFSETFROM:+0000
TZOFFSETTO:+0100
TZNAME:BST
DTSTART:20250330T010000
END:DAYLIGHT
BEGIN:STANDARD
TZOFFSETFROM:+0100
TZOFFSETTO:+0000
TZNAME:GMT
DTSTART:20251026T010000
END:STANDARD
BEGIN:DAYLIGHT
TZOFFSETFROM:+0000
TZOFFSETTO:+0100
TZNAME:BST
DTSTART:20260329T010000
END:DAYLIGHT
BEGIN:STANDARD
TZOFFSETFROM:+0100
TZOFFSETTO:+0000
TZNAME:GMT
DTSTART:20261025T010000
END:STANDARD
BEGIN:DAYLIGHT
TZOFFSETFROM:+0000
TZOFFSETTO:+0100
TZNAME:BST
DTSTART:20270328T010000
END:DAYLIGHT
BEGIN:STANDARD
TZOFFSETFROM:+0100
TZOFFSETTO:+0000
TZNAME:GMT
DTSTART:20271031T010000
END:STANDARD
BEGIN:DAYLIGHT
TZOFFSETFROM:+0000
TZOFFSETTO:+0100
TZNAME:BST
DTSTART:20280326T010000
END:DAYLIGHT
BEGIN:STANDARD
TZOFFSETFROM:+0100
TZOFFSETTO:+0000
TZNAME:GMT
DTSTART:20281029T010000
END:STANDARD
END:VTIMEZONE
BEGIN:VEVENT
DTSTART;VALUE=DATE:20260504
DTEND;VALUE=DATE:20260508
DTSTAMP:20260421T181703
CREATED:20260122T015834Z
LAST-MODIFIED:20260122T015834Z
UID:5457-1777852800-1778198399@halifax-fan.co.uk
SUMMARY:Offshore Technology Conference
DESCRIPTION:
URL:https://halifax-fan.co.uk/event/offshore-technology-conference/
LOCATION:NRG Park Houston\, One Reliant Parkway\, Houston\, TX\, 77054\, United States
CATEGORIES:USA
ATTACH;FMTTYPE=image/webp:https://halifax-fan.co.uk/wp-content/uploads/2026/01/Offshore-Technology-Conference.png.webp
END:VEVENT
BEGIN:VEVENT
DTSTART;VALUE=DATE:20260520
DTEND;VALUE=DATE:20260522
DTSTAMP:20260421T181703
CREATED:20260119T024023Z
LAST-MODIFIED:20260122T022934Z
UID:5380-1779235200-1779407999@halifax-fan.co.uk
SUMMARY:ChemUK
DESCRIPTION:Stand: D72
URL:https://halifax-fan.co.uk/event/chemuk/
LOCATION:NEC\, Birmingham\, UK\, Pendigo Way\, Marston Green\, Birmingham\, West Midlands\, B40 1NT\, United Kingdom
CATEGORIES:UK
ATTACH;FMTTYPE=image/webp:https://halifax-fan.co.uk/wp-content/uploads/2025/06/MainTech-2025-1.webp
END:VEVENT
BEGIN:VEVENT
DTSTART;VALUE=DATE:20260603
DTEND;VALUE=DATE:20260605
DTSTAMP:20260421T181703
CREATED:20260119T032040Z
LAST-MODIFIED:20260120T033047Z
UID:5387-1780444800-1780617599@halifax-fan.co.uk
SUMMARY:MainTec UK
DESCRIPTION:Stand: 5/L22
URL:https://halifax-fan.co.uk/event/maintech/
LOCATION:NEC\, Birmingham\, UK\, Pendigo Way\, Marston Green\, Birmingham\, West Midlands\, B40 1NT\, United Kingdom
CATEGORIES:UK
ATTACH;FMTTYPE=image/webp:https://halifax-fan.co.uk/wp-content/uploads/2026/01/MainTec.webp
END:VEVENT
BEGIN:VEVENT
DTSTART;VALUE=DATE:20260609
DTEND;VALUE=DATE:20260611
DTSTAMP:20260421T181703
CREATED:20260119T034441Z
LAST-MODIFIED:20260412T024807Z
UID:5396-1780963200-1781135999@halifax-fan.co.uk
SUMMARY:ChemE Show USA
DESCRIPTION:Booth Number: 421 \n  \nPowered by ACHEMA
URL:https://halifax-fan.co.uk/event/cheme-show/
LOCATION:George R. Brown Convention Center\, 1001 Avenida de las Americas\, Houston\, exas\, 77010
CATEGORIES:USA
ATTACH;FMTTYPE=image/webp:https://halifax-fan.co.uk/wp-content/uploads/2025/09/SPE-Offshore-Aberdeen.webp
END:VEVENT
BEGIN:VEVENT
DTSTART;VALUE=DATE:20260616
DTEND;VALUE=DATE:20260618
DTSTAMP:20260421T181703
CREATED:20260122T020228Z
LAST-MODIFIED:20260122T020228Z
UID:5461-1781568000-1781740799@halifax-fan.co.uk
SUMMARY:EPC Show
DESCRIPTION:Energy Projects Conference & Expo (EPC Show)
URL:https://halifax-fan.co.uk/event/epc-show/
LOCATION:George R. Brown Convention Center\, 1001 Avenida de las Americas\, Houston\, exas\, 77010
CATEGORIES:USA
ATTACH;FMTTYPE=image/jpeg:https://halifax-fan.co.uk/wp-content/uploads/2026/01/2026-EPC-Show-Houston-Energy-Projects-Conference-North-America-Midstream.jpeg
END:VEVENT
BEGIN:VEVENT
DTSTART;VALUE=DATE:20260623
DTEND;VALUE=DATE:20260626
DTSTAMP:20260421T181703
CREATED:20260323T032937Z
LAST-MODIFIED:20260323T080311Z
UID:5615-1782172800-1782431999@halifax-fan.co.uk
SUMMARY:Hillhead UK
DESCRIPTION:
URL:https://halifax-fan.co.uk/event/hillhead-uk/
LOCATION:Hillhead\, Hillhead Quarry\, Harpur Hill Nr Buxton\, Derbyshire\, SK17 9PR\, United Kingdom
CATEGORIES:Expo,UK
ATTACH;FMTTYPE=image/png:https://halifax-fan.co.uk/wp-content/uploads/2026/03/Screenshot-2026-03-23-at-11.26.18.png
END:VEVENT
BEGIN:VEVENT
DTSTART;VALUE=DATE:20260708
DTEND;VALUE=DATE:20260711
DTSTAMP:20260421T181703
CREATED:20260119T040130Z
LAST-MODIFIED:20260120T033031Z
UID:5406-1783468800-1783727999@halifax-fan.co.uk
SUMMARY:Aluminium China
DESCRIPTION:Stand: 2L38-2
URL:https://halifax-fan.co.uk/event/aluminium-china/
LOCATION:Shanghai\, China
CATEGORIES:China
ATTACH;FMTTYPE=image/webp:https://halifax-fan.co.uk/wp-content/uploads/2024/12/Shanghai-HEATEC3.webp
END:VEVENT
BEGIN:VEVENT
DTSTART;VALUE=DATE:20260728
DTEND;VALUE=DATE:20260731
DTSTAMP:20260421T181703
CREATED:20260216T084331Z
LAST-MODIFIED:20260412T024733Z
UID:5555-1785196800-1785455999@halifax-fan.co.uk
SUMMARY:CHEMICAL INDONESIA 2026
DESCRIPTION:Booth number: C3N1-38
URL:https://halifax-fan.co.uk/event/chemical-indonesia-2026/
LOCATION:Jakarta International Expo\, Jakarta\, 10620\, Indonesia
CATEGORIES:South East Asia
ATTACH;FMTTYPE=image/jpeg:https://halifax-fan.co.uk/wp-content/uploads/2026/02/CHEMICAL-INDONESIA-2026.jpg
END:VEVENT
BEGIN:VEVENT
DTSTART;VALUE=DATE:20260730
DTEND;VALUE=DATE:20260731
DTSTAMP:20260421T181703
CREATED:20260119T033620Z
LAST-MODIFIED:20260325T004637Z
UID:5391-1785369600-1785455999@halifax-fan.co.uk
SUMMARY:Yorkshire Day
DESCRIPTION:Details to come
URL:https://halifax-fan.co.uk/event/yorkshire-day/
LOCATION:Halifax Fan HQ\, Mistral Works Unit 11\, Brookfoot Business Park\, Elland Road\, Brighouse\, West Yorkshire\, HD6 2SD\, United Kingdom
CATEGORIES:Fangineers
ATTACH;FMTTYPE=image/webp:https://halifax-fan.co.uk/wp-content/uploads/2025/08/IMG_8608.webp
ORGANIZER;CN="Halifax Fan Group":MAILTO:sales@halifax-fan.com
END:VEVENT
BEGIN:VEVENT
DTSTART;VALUE=DATE:20260819
DTEND;VALUE=DATE:20260822
DTSTAMP:20260421T181703
CREATED:20260302T190131Z
LAST-MODIFIED:20260302T190131Z
UID:5573-1787097600-1787356799@halifax-fan.co.uk
SUMMARY:ISPE Singapore
DESCRIPTION:
URL:https://halifax-fan.co.uk/event/ispe-singapore/
LOCATION:SUNTEC SINGAPORE\, 3 Temasek Blvd\, 039593\, Singapore
CATEGORIES:South East Asia
ATTACH;FMTTYPE=image/png:https://halifax-fan.co.uk/wp-content/uploads/2026/03/Screenshot-2026-03-02-at-18.56.21.png
END:VEVENT
BEGIN:VEVENT
DTSTART;VALUE=DATE:20260902
DTEND;VALUE=DATE:20260905
DTSTAMP:20260421T181703
CREATED:20260122T022040Z
LAST-MODIFIED:20260417T014429Z
UID:5464-1788307200-1788566399@halifax-fan.co.uk
SUMMARY:Oil & Gas Asia
DESCRIPTION:
URL:https://halifax-fan.co.uk/event/oil-gas-asia/
LOCATION:KLCC\, Jalan Pinang\, Kuala Lumpur\, 50088\, Malaysia
CATEGORIES:South East Asia
ATTACH;FMTTYPE=image/jpeg:https://halifax-fan.co.uk/wp-content/uploads/2026/01/Post-Cover-1.jpg
END:VEVENT
BEGIN:VEVENT
DTSTART;VALUE=DATE:20260916
DTEND;VALUE=DATE:20260918
DTSTAMP:20260421T181703
CREATED:20260119T040355Z
LAST-MODIFIED:20260120T033019Z
UID:5408-1789516800-1789689599@halifax-fan.co.uk
SUMMARY:ESS UK
DESCRIPTION:ENVIRONMENTAL SERVICES & SOLUTIONS EXPO \nStand: EN-F122
URL:https://halifax-fan.co.uk/event/ess-uk/
LOCATION:Derbyshire
CATEGORIES:UK
ATTACH;FMTTYPE=image/webp:https://halifax-fan.co.uk/wp-content/uploads/2025/09/ESS-2025-1.webp
END:VEVENT
BEGIN:VEVENT
DTSTART;VALUE=DATE:20261012
DTEND;VALUE=DATE:20261015
DTSTAMP:20260421T181703
CREATED:20260119T080949Z
LAST-MODIFIED:20260120T082831Z
UID:5415-1791763200-1792022399@halifax-fan.co.uk
SUMMARY:FNA USA
DESCRIPTION:Furnaces North America
URL:https://halifax-fan.co.uk/event/fna-usa/
LOCATION:Indiana Convention Center\, 100 South Capital Ave\, Indianapolis\, IN\, 46225\, United States
CATEGORIES:USA
END:VEVENT
BEGIN:VEVENT
DTSTART;VALUE=DATE:20261109
DTEND;VALUE=DATE:20261114
DTSTAMP:20260421T181703
CREATED:20260216T081819Z
LAST-MODIFIED:20260216T082751Z
UID:5549-1794182400-1794614399@halifax-fan.co.uk
SUMMARY:International Mine Ventilation Congress 2026
DESCRIPTION:
URL:https://halifax-fan.co.uk/event/international-mine-ventilation-congress-2026/
LOCATION:Westin Hotel\, Nusa Dua\, Bali\, 80363\, Indonesia
CATEGORIES:South East Asia
ATTACH;FMTTYPE=image/jpeg:https://halifax-fan.co.uk/wp-content/uploads/2026/02/nternational-Mine-Ventilation-Congress.jpg
END:VEVENT
BEGIN:VEVENT
DTSTART;VALUE=DATE:20270413
DTEND;VALUE=DATE:20270416
DTSTAMP:20260421T181703
CREATED:20260122T015159Z
LAST-MODIFIED:20260302T185157Z
UID:5453-1807574400-1807833599@halifax-fan.co.uk
SUMMARY:Offshore Energy Week
DESCRIPTION:
URL:https://halifax-fan.co.uk/event/offshore-energy-week/
LOCATION:Marina Bay Sands\, 10 Bayfront Avenue\, 018956\, Singapore
CATEGORIES:South East Asia
ATTACH;FMTTYPE=image/jpeg:https://halifax-fan.co.uk/wp-content/uploads/2026/01/portadaosea2026.jpg
END:VEVENT
BEGIN:VEVENT
DTSTART;VALUE=DATE:20270907
DTEND;VALUE=DATE:20270910
DTSTAMP:20260421T181703
CREATED:20260119T065423Z
LAST-MODIFIED:20260120T033011Z
UID:5416-1820275200-1820534399@halifax-fan.co.uk
SUMMARY:SPE Offshore Europe
DESCRIPTION:
URL:https://halifax-fan.co.uk/event/spe-offshore-europe/
LOCATION:P&J Live\, E Burn Rd\,\, Aberdeen\, AB21 9FX\, United Kingdom
CATEGORIES:UK
ATTACH;FMTTYPE=image/webp:https://halifax-fan.co.uk/wp-content/uploads/2025/09/SPE-Offshore-Aberdeen2.webp
END:VEVENT
END:VCALENDAR