BEGIN:VCALENDAR
VERSION:2.0
PRODID:-//Halifax Fan Group - ECPv6.15.14//NONSGML v1.0//EN
CALSCALE:GREGORIAN
METHOD:PUBLISH
X-WR-CALNAME:Halifax Fan Group
X-ORIGINAL-URL:https://halifax-fan.co.uk
X-WR-CALDESC:Events for Halifax Fan Group
REFRESH-INTERVAL;VALUE=DURATION:PT1H
X-Robots-Tag:noindex
X-PUBLISHED-TTL:PT1H
BEGIN:VTIMEZONE
TZID:Europe/London
BEGIN:DAYLIGHT
TZOFFSETFROM:+0000
TZOFFSETTO:+0100
TZNAME:BST
DTSTART:20250330T010000
END:DAYLIGHT
BEGIN:STANDARD
TZOFFSETFROM:+0100
TZOFFSETTO:+0000
TZNAME:GMT
DTSTART:20251026T010000
END:STANDARD
BEGIN:DAYLIGHT
TZOFFSETFROM:+0000
TZOFFSETTO:+0100
TZNAME:BST
DTSTART:20260329T010000
END:DAYLIGHT
BEGIN:STANDARD
TZOFFSETFROM:+0100
TZOFFSETTO:+0000
TZNAME:GMT
DTSTART:20261025T010000
END:STANDARD
BEGIN:DAYLIGHT
TZOFFSETFROM:+0000
TZOFFSETTO:+0100
TZNAME:BST
DTSTART:20270328T010000
END:DAYLIGHT
BEGIN:STANDARD
TZOFFSETFROM:+0100
TZOFFSETTO:+0000
TZNAME:GMT
DTSTART:20271031T010000
END:STANDARD
END:VTIMEZONE
BEGIN:VEVENT
DTSTART;VALUE=DATE:20260309
DTEND;VALUE=DATE:20260312
DTSTAMP:20260422T235521
CREATED:20260119T072612Z
LAST-MODIFIED:20260122T012955Z
UID:5425-1773014400-1773273599@halifax-fan.co.uk
SUMMARY:BIO China
DESCRIPTION:Fermentation \nStand: N1 B53
URL:https://halifax-fan.co.uk/event/bio-china/
LOCATION:IN
CATEGORIES:China
ATTACH;FMTTYPE=image/webp:https://halifax-fan.co.uk/wp-content/uploads/2025/07/Aluminium-China-2025-4.webp
END:VEVENT
BEGIN:VEVENT
DTSTART;VALUE=DATE:20260217
DTEND;VALUE=DATE:20260218
DTSTAMP:20260422T235521
CREATED:20260215T174208Z
LAST-MODIFIED:20260215T174320Z
UID:5546-1771286400-1771372799@halifax-fan.co.uk
SUMMARY:Chinese New Year
DESCRIPTION:
URL:https://halifax-fan.co.uk/event/chinese-new-year/
LOCATION:IN
CATEGORIES:China
ATTACH;FMTTYPE=image/jpeg:https://halifax-fan.co.uk/wp-content/uploads/2026/02/happy-Chinese-New-Year-02-01.jpg
END:VEVENT
BEGIN:VEVENT
DTSTART;VALUE=DATE:20260123
DTEND;VALUE=DATE:20260124
DTSTAMP:20260422T235521
CREATED:20260119T035713Z
LAST-MODIFIED:20260122T012859Z
UID:5403-1769126400-1769212799@halifax-fan.co.uk
SUMMARY:Chinese New Year\, Shenzhen
DESCRIPTION:Annual Dinner 2026
URL:https://halifax-fan.co.uk/event/chinese-new-year-shenzhen/
LOCATION:Shenzhen\, Shenzhen\, China
CATEGORIES:Fangineers
ATTACH;FMTTYPE=image/webp:https://halifax-fan.co.uk/wp-content/uploads/2026/01/Happy-Chinese-New-Year-2026.webp
END:VEVENT
BEGIN:VEVENT
DTSTART;VALUE=DATE:20260116
DTEND;VALUE=DATE:20260117
DTSTAMP:20260422T235521
CREATED:20260119T035445Z
LAST-MODIFIED:20260122T012823Z
UID:5399-1768521600-1768607999@halifax-fan.co.uk
SUMMARY:Chinese New Year\, Nantong
DESCRIPTION:Annual Dinner
URL:https://halifax-fan.co.uk/event/chinese-new-year-nantong/
LOCATION:Nantong\, China
CATEGORIES:Fangineers
ATTACH;FMTTYPE=image/webp:https://halifax-fan.co.uk/wp-content/uploads/2026/01/Happy-Chinese-New-Year-2026.webp
ORGANIZER;CN="Halifax Fan Group":MAILTO:sales@halifax-fan.com
END:VEVENT
END:VCALENDAR